BEGIN:VCALENDAR
VERSION:2.0
METHOD:PUBLISH
CALSCALE:GREGORIAN
PRODID:-//Helios Calendar//EN
X-FROM-URL:https://www.sdmesa.edu/calendar/index.php?eID=9743
X-WR-RELCALID:San Diego Mesa College Calendar Transfer Recognition Luncheon (TRL) 20260514T110000
X-WR-TIMEZONE:America/Los_Angeles
X-WR-CALNAME:San Diego Mesa College Calendar
BEGIN:VEVENT
URL;VALUE=URI:https://www.sdmesa.edu/calendar/index.php?eID=9743
DTSTART:20260514T110000
DTEND:20260514T130000
SUMMARY:Transfer Recognition Luncheon (TRL)
DESCRIPTION:Join the Transfer Center for a end-of-year celebration to celebrate your Transfer Success! Tell us where you got in to be invited. Then come celebrate with a free lunch & recognition ceremony! May 14th\, 202611AM to 1PMMC 211 A/BRegistration For complete event details please visit:  https://www.sdmesa.edu/calendar/?eID=9743\n______________________________\nEvent Downloaded Powered by OU Calendar
LOCATION:Mesa Campus - 7250 Mesa College Drive \, San Diego\, CA USA 92111
CATEGORIES:San Diego Mesa College Calendar Events
PRIORITY:0
TRANSP:TRANSPARENT
END:VEVENT
END:VCALENDAR