BEGIN:VCALENDAR
VERSION:2.0
METHOD:PUBLISH
CALSCALE:GREGORIAN
PRODID:-//Helios Calendar//EN
X-FROM-URL:https://www.sdmesa.edu/calendar/index.php?eID=9536
X-WR-RELCALID:San Diego Mesa College Calendar Pride Center anmd Gaming Club Costume Contest 20251030T120000
X-WR-TIMEZONE:America/Los_Angeles
X-WR-CALNAME:San Diego Mesa College Calendar
BEGIN:VEVENT
URL;VALUE=URI:https://www.sdmesa.edu/calendar/index.php?eID=9536
DTSTART:20251030T120000
DTEND:20251030T130000
SUMMARY:Pride Center anmd Gaming Club Costume Contest
DESCRIPTION:Pride Center\, D-102 | Thursday\, Oct 30th | 12:00 PMVisit the Pride Center and enter the Gaming Club's annual Costume Contest! Prizes are available! Everyone is Welcome. Theme: Spooky!   For complete event details please visit:  https://www.sdmesa.edu/calendar/?eID=9536\n______________________________\nEvent Downloaded Powered by OU Calendar
LOCATION:Pride Center\, D-102 - 7250 Mesa College Drive \, San Diego\, CA  92111
CATEGORIES:San Diego Mesa College Calendar Events
PRIORITY:0
TRANSP:TRANSPARENT
END:VEVENT
END:VCALENDAR