BEGIN:VCALENDAR
VERSION:2.0
METHOD:PUBLISH
CALSCALE:GREGORIAN
PRODID:-//Helios Calendar//EN
X-FROM-URL:https://www.sdmesa.edu/calendar/index.php?eID=9168
X-WR-RELCALID:San Diego Mesa College Calendar Transfer Talk 20250714T110000
X-WR-TIMEZONE:America/Los_Angeles
X-WR-CALNAME:San Diego Mesa College Calendar
BEGIN:VEVENT
URL;VALUE=URI:https://www.sdmesa.edu/calendar/index.php?eID=9168
DTSTART:20250714T110000
DTEND:20250714T120000
SUMMARY:Transfer Talk
DESCRIPTION:Join our Transfer Talks to get your transfer questions answered. Transfer counselors and transfer center staff will provide essential transfer information. REGISTER HERE!Mondays 11AM - 12PMTuesdays 12PM - 1 PMThursdays 3PM - 4PM For complete event details please visit:  https://www.sdmesa.edu/calendar/?eID=9168\n______________________________\nEvent Downloaded Powered by OU Calendar
LOCATION:Zoom Virtual Event - Virtual Event \, San Diego\, CA  92111
CATEGORIES:San Diego Mesa College Calendar Events
PRIORITY:0
TRANSP:TRANSPARENT
END:VEVENT
END:VCALENDAR