BEGIN:VCALENDAR
VERSION:2.0
METHOD:PUBLISH
CALSCALE:GREGORIAN
PRODID:-//Helios Calendar//EN
X-FROM-URL:https://www.sdmesa.edu/calendar/index.php?eID=785
X-WR-RELCALID:San Diego Mesa College Calendar Annual Ceramics Sale 20151208T090000
X-WR-TIMEZONE:America/Los_Angeles
X-WR-CALNAME:San Diego Mesa College Calendar
BEGIN:VEVENT
URL;VALUE=URI:https://www.sdmesa.edu/calendar/index.php?eID=785
DTSTART:20151208T090000
DTEND:20151208T170000
SUMMARY:Annual Ceramics Sale
DESCRIPTION:Looking for a great holiday gift? Check out the Mesa College Annual Pottery Sale\, featuring functional ware\, planters\, sculptures\, and more! Located in front of the cafeteria\, 9:00 AM - 5:00 PM. For complete event details please visit:  https://www.sdmesa.edu/calendar/?eID=785\n______________________________\nEvent Downloaded Powered by OU Calendar
LOCATION:Mesa Campus - 7250 Mesa College Drive \, San Diego\, CA USA 92111
CATEGORIES:San Diego Mesa College Calendar Events
PRIORITY:0
TRANSP:TRANSPARENT
END:VEVENT
END:VCALENDAR