BEGIN:VCALENDAR
VERSION:2.0
METHOD:PUBLISH
CALSCALE:GREGORIAN
PRODID:-//Helios Calendar//EN
X-FROM-URL:https://www.sdmesa.edu/calendar/index.php?eID=783
X-WR-RELCALID:San Diego Mesa College Calendar The Spirit of African Art 20151216T183000
X-WR-TIMEZONE:America/Los_Angeles
X-WR-CALNAME:San Diego Mesa College Calendar
BEGIN:VEVENT
URL;VALUE=URI:https://www.sdmesa.edu/calendar/index.php?eID=783
DTSTART:20151216T183000
DTEND:20151216T193000
SUMMARY:The Spirit of African Art
DESCRIPTION:Dr. Denise Rogers\, art history professor and curator of San Diego Mesa College's African Art Collection\, discusses the philosophical and aesthetic dimensions of African art. This free lecture takes place Wednesday\, December 16 from 6:30 to 7:30... For complete event details please visit:  https://www.sdmesa.edu/calendar/?eID=783\n______________________________\nEvent Downloaded Powered by OU Calendar
LOCATION:San Diego Central Library - 330 Park Blvd. \, San Diego\, CA USA 92101
CATEGORIES:San Diego Mesa College Calendar Events
PRIORITY:0
TRANSP:TRANSPARENT
END:VEVENT
END:VCALENDAR