BEGIN:VCALENDAR
VERSION:2.0
METHOD:PUBLISH
CALSCALE:GREGORIAN
PRODID:-//Helios Calendar//EN
X-FROM-URL:https://www.sdmesa.edu/calendar/index.php?eID=782
X-WR-RELCALID:San Diego Mesa College Calendar Undocumented Student Resource Forum 20151209T160000
X-WR-TIMEZONE:America/Los_Angeles
X-WR-CALNAME:San Diego Mesa College Calendar
BEGIN:VEVENT
URL;VALUE=URI:https://www.sdmesa.edu/calendar/index.php?eID=782
DTSTART:20151209T160000
DTEND:20151209T160000
SUMMARY:Undocumented Student Resource Forum
DESCRIPTION:Are you an AB-540/Undocumented/DACA-mented student at Mesa\, City\, or Miramar? Join the Coalition of Concerned Students for information on resources available for undocumented students. 4:00 p.m.\, Wednesday\, December 9\, Room I4-213To RSVP\, click... For complete event details please visit:  https://www.sdmesa.edu/calendar/?eID=782\n______________________________\nEvent Downloaded Powered by OU Calendar
LOCATION:Mesa Campus - 7250 Mesa College Drive \, San Diego\, CA USA 92111
CATEGORIES:San Diego Mesa College Calendar Events
PRIORITY:0
TRANSP:TRANSPARENT
END:VEVENT
END:VCALENDAR