BEGIN:VCALENDAR
VERSION:2.0
METHOD:PUBLISH
CALSCALE:GREGORIAN
PRODID:-//Helios Calendar//EN
X-FROM-URL:https://www.sdmesa.edu/calendar/index.php?eID=781
X-WR-RELCALID:San Diego Mesa College Calendar Mesa College presents Jingle Bell Jazz 20151203T193000
X-WR-TIMEZONE:America/Los_Angeles
X-WR-CALNAME:San Diego Mesa College Calendar
BEGIN:VEVENT
URL;VALUE=URI:https://www.sdmesa.edu/calendar/index.php?eID=781
DTSTART:20151203T193000
DTEND:20151203T193000
SUMMARY:Mesa College presents Jingle Bell Jazz
DESCRIPTION:Thursday\, December 3\, dizzy's jazz will host the annual Jingle Bell Jazz presentation\, performed by the Mesa College Jazz Ensemble under the direction of James Romeo.dizzy's is a music venue in the showroom of San Diego Jet Ski Rentals featuring... For complete event details please visit:  https://www.sdmesa.edu/calendar/?eID=781\n______________________________\nEvent Downloaded Powered by OU Calendar
LOCATION:dizzy's - 4275 Mission Bay Drive at Rosewood St. \, Pacific Beach\, CA USA 92109
CATEGORIES:San Diego Mesa College Calendar Events
PRIORITY:0
TRANSP:TRANSPARENT
END:VEVENT
END:VCALENDAR