BEGIN:VCALENDAR
VERSION:2.0
METHOD:PUBLISH
CALSCALE:GREGORIAN
PRODID:-//Helios Calendar//EN
X-FROM-URL:https://www.sdmesa.edu/calendar/index.php?eID=779
X-WR-RELCALID:San Diego Mesa College Calendar Fossil-Fuel Divestment from Two Perspectives 20151202T170000
X-WR-TIMEZONE:America/Los_Angeles
X-WR-CALNAME:San Diego Mesa College Calendar
BEGIN:VEVENT
URL;VALUE=URI:https://www.sdmesa.edu/calendar/index.php?eID=779
DTSTART:20151202T170000
DTEND:20151202T170000
SUMMARY:Fossil-Fuel Divestment from Two Perspectives
DESCRIPTION:TerraMesa\, Mesa's student environmental sustainability and conservation club\, invites you to “Fossil-Fuel Divestment from Two Perspectives” on Wednesday\, December 2nd\, at 5pm in I4-213 (2nd floor of the student services building). You can also... For complete event details please visit:  https://www.sdmesa.edu/calendar/?eID=779\n______________________________\nEvent Downloaded Powered by OU Calendar
LOCATION:Mesa Campus - 7250 Mesa College Drive \, San Diego\, CA USA 92111
CATEGORIES:San Diego Mesa College Calendar Events
PRIORITY:0
TRANSP:TRANSPARENT
END:VEVENT
END:VCALENDAR