BEGIN:VCALENDAR
VERSION:2.0
METHOD:PUBLISH
CALSCALE:GREGORIAN
PRODID:-//Helios Calendar//EN
X-FROM-URL:https://www.sdmesa.edu/calendar/index.php?eID=778
X-WR-RELCALID:San Diego Mesa College Calendar Radiologic Technology Program Information Session 20151207T160000
X-WR-TIMEZONE:America/Los_Angeles
X-WR-CALNAME:San Diego Mesa College Calendar
BEGIN:VEVENT
URL;VALUE=URI:https://www.sdmesa.edu/calendar/index.php?eID=778
DTSTART:20151207T160000
DTEND:20151207T170000
SUMMARY:Radiologic Technology Program Information Session
DESCRIPTION:Learn more about Mesa College's Radiologic Technology program at this open information session. Monday\, December 74:00 PM - 5:00 PMRoom S-104\, Allied Health Building Note: Please check this website the DAY of the session for any changes that... For complete event details please visit:  https://www.sdmesa.edu/calendar/?eID=778\n______________________________\nEvent Downloaded Powered by OU Calendar
LOCATION:Mesa Campus - 7250 Mesa College Drive \, San Diego\, CA USA 92111
CATEGORIES:San Diego Mesa College Calendar Events
PRIORITY:0
TRANSP:TRANSPARENT
END:VEVENT
END:VCALENDAR