BEGIN:VCALENDAR
VERSION:2.0
METHOD:PUBLISH
CALSCALE:GREGORIAN
PRODID:-//Helios Calendar//EN
X-FROM-URL:https://www.sdmesa.edu/calendar/index.php?eID=771
X-WR-RELCALID:San Diego Mesa College Calendar Dental Assisting Program Information Session 20151208T180000
X-WR-TIMEZONE:America/Los_Angeles
X-WR-CALNAME:San Diego Mesa College Calendar
BEGIN:VEVENT
URL;VALUE=URI:https://www.sdmesa.edu/calendar/index.php?eID=771
DTSTART:20151208T180000
DTEND:20151208T180000
SUMMARY:Dental Assisting Program Information Session
DESCRIPTION:Learn more about Mesa College's Dental Assisting program at this open information session. Tuesday\, December 86:00 PMRoom S-117/118 Note: Please check this website the DAY of the session for any changes that may have been required. Reservations... For complete event details please visit:  https://www.sdmesa.edu/calendar/?eID=771\n______________________________\nEvent Downloaded Powered by OU Calendar
LOCATION:P Bldg Garden - 7250 Mesa College Drive\, Bldg P  \, San Diego\, CA USA 92111
CATEGORIES:San Diego Mesa College Calendar Events
PRIORITY:0
TRANSP:TRANSPARENT
END:VEVENT
END:VCALENDAR