BEGIN:VCALENDAR
VERSION:2.0
METHOD:PUBLISH
CALSCALE:GREGORIAN
PRODID:-//Helios Calendar//EN
X-FROM-URL:https://www.sdmesa.edu/calendar/index.php?eID=764
X-WR-RELCALID:San Diego Mesa College Calendar Thanksgiving Holiday Break 20151123
X-WR-TIMEZONE:America/Los_Angeles
X-WR-CALNAME:San Diego Mesa College Calendar
BEGIN:VEVENT
URL;VALUE=URI:https://www.sdmesa.edu/calendar/index.php?eID=764
DTSTART;VALUE=DATE:20151123
DTEND;VALUE=DATE:20151124
SUMMARY:Thanksgiving Holiday Break
DESCRIPTION:Mesa College will be closed from November 23-27 for classes.Administrative services will be open Monday\, November 23 through Wednesday\, November 25. Please call ahead.Have a great Thanksgiving break!  For complete event details please visit:  https://www.sdmesa.edu/calendar/?eID=764\n______________________________\nEvent Downloaded Powered by OU Calendar
LOCATION:Mesa Campus - 7250 Mesa College Drive \, San Diego\, CA USA 92111
CATEGORIES:San Diego Mesa College Calendar Events
PRIORITY:0
TRANSP:TRANSPARENT
END:VEVENT
END:VCALENDAR