BEGIN:VCALENDAR
VERSION:2.0
METHOD:PUBLISH
CALSCALE:GREGORIAN
PRODID:-//Helios Calendar//EN
X-FROM-URL:https://www.sdmesa.edu/calendar/index.php?eID=758
X-WR-RELCALID:San Diego Mesa College Calendar Comfort Tent 20151215T093000
X-WR-TIMEZONE:America/Los_Angeles
X-WR-CALNAME:San Diego Mesa College Calendar
BEGIN:VEVENT
URL;VALUE=URI:https://www.sdmesa.edu/calendar/index.php?eID=758
DTSTART:20151215T093000
DTEND:20151215T163000
SUMMARY:Comfort Tent
DESCRIPTION:Stressed out over finals? Come by the Comfort Tent!The Comfort Tent offers physical and emotional support to students during mid-tem and final exams by providing place to relax\, unwind\, and learn techniques for staying calm and stress-free.Comfort... For complete event details please visit:  https://www.sdmesa.edu/calendar/?eID=758\n______________________________\nEvent Downloaded Powered by OU Calendar
LOCATION:M+S (MS Bldg) Circle - 7250 Mesa College Drive\, M+S Bldg \, San Diego\, CA USA 92111
CATEGORIES:San Diego Mesa College Calendar Events
PRIORITY:0
TRANSP:TRANSPARENT
END:VEVENT
END:VCALENDAR