BEGIN:VCALENDAR
VERSION:2.0
METHOD:PUBLISH
CALSCALE:GREGORIAN
PRODID:-//Helios Calendar//EN
X-FROM-URL:https://www.sdmesa.edu/calendar/index.php?eID=755
X-WR-RELCALID:San Diego Mesa College Calendar ASG Professional Photo Shoot 20151118T140000
X-WR-TIMEZONE:America/Los_Angeles
X-WR-CALNAME:San Diego Mesa College Calendar
BEGIN:VEVENT
URL;VALUE=URI:https://www.sdmesa.edu/calendar/index.php?eID=755
DTSTART:20151118T140000
DTEND:20151118T160000
SUMMARY:ASG Professional Photo Shoot
DESCRIPTION:In need of a professional photo? Come to the ASG office and have your portrait taken for use on LinkedIn\, Facebook\, and other social media\, or for your portfolio or website.The photoshoot is free for all students and takes place Monday and Wednesday\,... For complete event details please visit:  https://www.sdmesa.edu/calendar/?eID=755\n______________________________\nEvent Downloaded Powered by OU Calendar
LOCATION:Mesa Campus - 7250 Mesa College Drive \, San Diego\, CA USA 92111
CATEGORIES:San Diego Mesa College Calendar Events
PRIORITY:0
TRANSP:TRANSPARENT
END:VEVENT
END:VCALENDAR