BEGIN:VCALENDAR
VERSION:2.0
METHOD:PUBLISH
CALSCALE:GREGORIAN
PRODID:-//Helios Calendar//EN
X-FROM-URL:https://www.sdmesa.edu/calendar/index.php?eID=753
X-WR-RELCALID:San Diego Mesa College Calendar LRC Booksale 20151118T090000
X-WR-TIMEZONE:America/Los_Angeles
X-WR-CALNAME:San Diego Mesa College Calendar
BEGIN:VEVENT
URL;VALUE=URI:https://www.sdmesa.edu/calendar/index.php?eID=753
DTSTART:20151118T090000
DTEND:20151118T140000
SUMMARY:LRC Booksale
DESCRIPTION:Let the LRC Booksale make your world more wonderful! The booksale takes place Wednesday\, November 18 from 9:00 a.m. to 2:00 p.m. outside the LRC.Hardcovers: $1.00Paperbacks: $0.50Cash only.  For complete event details please visit:  https://www.sdmesa.edu/calendar/?eID=753\n______________________________\nEvent Downloaded Powered by OU Calendar
LOCATION:Mesa Campus - 7250 Mesa College Drive \, San Diego\, CA USA 92111
CATEGORIES:San Diego Mesa College Calendar Events
PRIORITY:0
TRANSP:TRANSPARENT
END:VEVENT
END:VCALENDAR