BEGIN:VCALENDAR
VERSION:2.0
METHOD:PUBLISH
CALSCALE:GREGORIAN
PRODID:-//Helios Calendar//EN
X-FROM-URL:https://www.sdmesa.edu/calendar/index.php?eID=752
X-WR-RELCALID:San Diego Mesa College Calendar The Art of Collecting 20151119T124500
X-WR-TIMEZONE:America/Los_Angeles
X-WR-CALNAME:San Diego Mesa College Calendar
BEGIN:VEVENT
URL;VALUE=URI:https://www.sdmesa.edu/calendar/index.php?eID=752
DTSTART:20151119T124500
DTEND:20151119T141000
SUMMARY:The Art of Collecting
DESCRIPTION:San Diego Mesa College will host renowned attorney and art-collector William Lerach from 12:45 p.m. to 2:10 p.m. on Thursday\, November 19\, for a lecture on his expansive international collection of indigenous art.Lerach will speak about his passion... For complete event details please visit:  https://www.sdmesa.edu/calendar/?eID=752\n______________________________\nEvent Downloaded Powered by OU Calendar
LOCATION:Mesa Campus - 7250 Mesa College Drive \, San Diego\, CA USA 92111
CATEGORIES:San Diego Mesa College Calendar Events
PRIORITY:0
TRANSP:TRANSPARENT
END:VEVENT
END:VCALENDAR