BEGIN:VCALENDAR
VERSION:2.0
METHOD:PUBLISH
CALSCALE:GREGORIAN
PRODID:-//Helios Calendar//EN
X-FROM-URL:https://www.sdmesa.edu/calendar/index.php?eID=751
X-WR-RELCALID:San Diego Mesa College Calendar Poetry Reading: Judith Roche 20151117T190000
X-WR-TIMEZONE:America/Los_Angeles
X-WR-CALNAME:San Diego Mesa College Calendar
BEGIN:VEVENT
URL;VALUE=URI:https://www.sdmesa.edu/calendar/index.php?eID=751
DTSTART:20151117T190000
DTEND:20151117T190000
SUMMARY:Poetry Reading: Judith Roche
DESCRIPTION:American Book Award-winner Judith Roche comes to Mesa College on Tuesday\, November 17 to read from her fourth book of poems\, All Fire All Water. Her work is steeped in themes of environmental sustainability and several of her poems have been installed... For complete event details please visit:  https://www.sdmesa.edu/calendar/?eID=751\n______________________________\nEvent Downloaded Powered by OU Calendar
LOCATION:Mesa Campus - 7250 Mesa College Drive \, San Diego\, CA USA 92111
CATEGORIES:San Diego Mesa College Calendar Events
PRIORITY:0
TRANSP:TRANSPARENT
END:VEVENT
END:VCALENDAR