BEGIN:VCALENDAR
VERSION:2.0
METHOD:PUBLISH
CALSCALE:GREGORIAN
PRODID:-//Helios Calendar//EN
X-FROM-URL:https://www.sdmesa.edu/calendar/index.php?eID=747
X-WR-RELCALID:San Diego Mesa College Calendar Student-Directed One Acts 20151114T200000
X-WR-TIMEZONE:America/Los_Angeles
X-WR-CALNAME:San Diego Mesa College Calendar
BEGIN:VEVENT
URL;VALUE=URI:https://www.sdmesa.edu/calendar/index.php?eID=747
DTSTART:20151114T200000
DTEND:20151114T200000
SUMMARY:Student-Directed One Acts
DESCRIPTION:The Mesa College Theatre Company presents Student-Directed One Acts at the Mesa College Apolliad Theatre. These three one-act plays are directed and performed by Mesa theatre students.Each performance includes:Leaving Tampa - Written by Edward Crosby\;... For complete event details please visit:  https://www.sdmesa.edu/calendar/?eID=747\n______________________________\nEvent Downloaded Powered by OU Calendar
LOCATION:Mesa Campus - 7250 Mesa College Drive \, San Diego\, CA USA 92111
CATEGORIES:San Diego Mesa College Calendar Events
PRIORITY:0
TRANSP:TRANSPARENT
END:VEVENT
END:VCALENDAR