BEGIN:VCALENDAR
VERSION:2.0
METHOD:PUBLISH
CALSCALE:GREGORIAN
PRODID:-//Helios Calendar//EN
X-FROM-URL:https://www.sdmesa.edu/calendar/index.php?eID=745
X-WR-RELCALID:San Diego Mesa College Calendar Diversity Event - Women in the Military 20151110T080000
X-WR-TIMEZONE:America/Los_Angeles
X-WR-CALNAME:San Diego Mesa College Calendar
BEGIN:VEVENT
URL;VALUE=URI:https://www.sdmesa.edu/calendar/index.php?eID=745
DTSTART:20151110T080000
DTEND:20151110T091500
SUMMARY:Diversity Event - Women in the Military
DESCRIPTION:Please join us as we welcome US Navy Captain (retired) Judie Heineman. Captain Heineman will be speaking about her experiences as a female military leader and the importance of education for military veterans. The event takes place Tuesday\, November... For complete event details please visit:  https://www.sdmesa.edu/calendar/?eID=745\n______________________________\nEvent Downloaded Powered by OU Calendar
LOCATION:Mesa Campus - 7250 Mesa College Drive \, San Diego\, CA USA 92111
CATEGORIES:San Diego Mesa College Calendar Events
PRIORITY:0
TRANSP:TRANSPARENT
END:VEVENT
END:VCALENDAR