BEGIN:VCALENDAR
VERSION:2.0
METHOD:PUBLISH
CALSCALE:GREGORIAN
PRODID:-//Helios Calendar//EN
X-FROM-URL:https://www.sdmesa.edu/calendar/index.php?eID=744
X-WR-RELCALID:San Diego Mesa College Calendar Faculty Workshops 20151119T120000
X-WR-TIMEZONE:America/Los_Angeles
X-WR-CALNAME:San Diego Mesa College Calendar
BEGIN:VEVENT
URL;VALUE=URI:https://www.sdmesa.edu/calendar/index.php?eID=744
DTSTART:20151119T120000
DTEND:20151119T180000
SUMMARY:Faculty Workshops
DESCRIPTION:Day 3 of International Education Week takes place Thursday\, November 19\, and features specialized workshops for faculty in the LOFT\, LRC 435.  Click here for a full list of events!  For complete event details please visit:  https://www.sdmesa.edu/calendar/?eID=744\n______________________________\nEvent Downloaded Powered by OU Calendar
LOCATION:Mesa Campus - 7250 Mesa College Drive \, San Diego\, CA USA 92111
CATEGORIES:San Diego Mesa College Calendar Events
PRIORITY:0
TRANSP:TRANSPARENT
END:VEVENT
END:VCALENDAR