BEGIN:VCALENDAR
VERSION:2.0
METHOD:PUBLISH
CALSCALE:GREGORIAN
PRODID:-//Helios Calendar//EN
X-FROM-URL:https://www.sdmesa.edu/calendar/index.php?eID=743
X-WR-RELCALID:San Diego Mesa College Calendar Cultural Activities, Film Fest, & Language Exchange 20151118T090000
X-WR-TIMEZONE:America/Los_Angeles
X-WR-CALNAME:San Diego Mesa College Calendar
BEGIN:VEVENT
URL;VALUE=URI:https://www.sdmesa.edu/calendar/index.php?eID=743
DTSTART:20151118T090000
DTEND:20151118T170000
SUMMARY:Cultural Activities\, Film Fest\, & Language Exchange
DESCRIPTION:Day 2 of International Education Week takes place Wednesday\, November 18\, with a variety of workshops\, film screenings\, and opportunities to learn more about other cultures! Click here for a full list of events!  For complete event details please visit:  https://www.sdmesa.edu/calendar/?eID=743\n______________________________\nEvent Downloaded Powered by OU Calendar
LOCATION:Mesa Promenade - 7250 Mesa College Drive\, Promenade \, San Diego\, CA USA 92111
CATEGORIES:San Diego Mesa College Calendar Events
PRIORITY:0
TRANSP:TRANSPARENT
END:VEVENT
END:VCALENDAR