BEGIN:VCALENDAR
VERSION:2.0
METHOD:PUBLISH
CALSCALE:GREGORIAN
PRODID:-//Helios Calendar//EN
X-FROM-URL:https://www.sdmesa.edu/calendar/index.php?eID=741
X-WR-RELCALID:San Diego Mesa College Calendar International Education Week 20151117
X-WR-TIMEZONE:America/Los_Angeles
X-WR-CALNAME:San Diego Mesa College Calendar
BEGIN:VEVENT
URL;VALUE=URI:https://www.sdmesa.edu/calendar/index.php?eID=741
DTSTART;VALUE=DATE:20151117
DTEND;VALUE=DATE:20151118
SUMMARY:International Education Week
DESCRIPTION:International Education Week kicks off on Tue.\, Nov. 17 for three days of presentations\, activities\, workshops and more.Click here for more information\, and check out the preview video here. Sponsored by San Diego Mesa College Humanities Institute\,... For complete event details please visit:  https://www.sdmesa.edu/calendar/?eID=741\n______________________________\nEvent Downloaded Powered by OU Calendar
LOCATION:Mesa Campus - 7250 Mesa College Drive \, San Diego\, CA USA 92111
CATEGORIES:San Diego Mesa College Calendar Events
PRIORITY:0
TRANSP:TRANSPARENT
END:VEVENT
END:VCALENDAR