BEGIN:VCALENDAR
VERSION:2.0
METHOD:PUBLISH
CALSCALE:GREGORIAN
PRODID:-//Helios Calendar//EN
X-FROM-URL:https://www.sdmesa.edu/calendar/index.php?eID=740
X-WR-RELCALID:San Diego Mesa College Calendar Jerry Schad Observatory Dedication Ceremony 20151119T173000
X-WR-TIMEZONE:America/Los_Angeles
X-WR-CALNAME:San Diego Mesa College Calendar
BEGIN:VEVENT
URL;VALUE=URI:https://www.sdmesa.edu/calendar/index.php?eID=740
DTSTART:20151119T173000
DTEND:20151119T183000
SUMMARY:Jerry Schad Observatory Dedication Ceremony
DESCRIPTION:All are cordially invited to the dedication ceremony of the Jerry Schad Observatory. This event will take place Thursday\, November 19 in the Mesa Math+Science Complex. 5:30 PM - Refreshments6:00 PM - Words by Family and Friends6:30 PM - Sky ViewingNo... For complete event details please visit:  https://www.sdmesa.edu/calendar/?eID=740\n______________________________\nEvent Downloaded Powered by OU Calendar
LOCATION:Mesa Campus - 7250 Mesa College Drive \, San Diego\, CA USA 92111
CATEGORIES:San Diego Mesa College Calendar Events
PRIORITY:0
TRANSP:TRANSPARENT
END:VEVENT
END:VCALENDAR