BEGIN:VCALENDAR
VERSION:2.0
METHOD:PUBLISH
CALSCALE:GREGORIAN
PRODID:-//Helios Calendar//EN
X-FROM-URL:https://www.sdmesa.edu/calendar/index.php?eID=738
X-WR-RELCALID:San Diego Mesa College Calendar Personal Financial Workshop 20151117T143000
X-WR-TIMEZONE:America/Los_Angeles
X-WR-CALNAME:San Diego Mesa College Calendar
BEGIN:VEVENT
URL;VALUE=URI:https://www.sdmesa.edu/calendar/index.php?eID=738
DTSTART:20151117T143000
DTEND:20151117T153000
SUMMARY:Personal Financial Workshop
DESCRIPTION:Come learn about budgeting\, financial planning\, and personal financial management on Tuesday\, November 17.Howard Eskew\, Mesa Business Professor\, will be the event's featured guest speaker. Free gourmet ice cream for all in attendance. Located in... For complete event details please visit:  https://www.sdmesa.edu/calendar/?eID=738\n______________________________\nEvent Downloaded Powered by OU Calendar
LOCATION:Mesa Campus - 7250 Mesa College Drive \, San Diego\, CA USA 92111
CATEGORIES:San Diego Mesa College Calendar Events
PRIORITY:0
TRANSP:TRANSPARENT
END:VEVENT
END:VCALENDAR