BEGIN:VCALENDAR
VERSION:2.0
METHOD:PUBLISH
CALSCALE:GREGORIAN
PRODID:-//Helios Calendar//EN
X-FROM-URL:https://www.sdmesa.edu/calendar/index.php?eID=737
X-WR-RELCALID:San Diego Mesa College Calendar Time Management Discussion Workshop - by Peer Navigators 20151112T140000
X-WR-TIMEZONE:America/Los_Angeles
X-WR-CALNAME:San Diego Mesa College Calendar
BEGIN:VEVENT
URL;VALUE=URI:https://www.sdmesa.edu/calendar/index.php?eID=737
DTSTART:20151112T140000
DTEND:20151112T150000
SUMMARY:Time Management Discussion Workshop - by Peer Navigators
DESCRIPTION:Discuss and learn from other students on new ways to manage your busy lives!Click here to see the flyer!Pizza will be provided. For complete event details please visit:  https://www.sdmesa.edu/calendar/?eID=737\n______________________________\nEvent Downloaded Powered by OU Calendar
LOCATION:Mesa Campus - 7250 Mesa College Drive \, San Diego\, CA USA 92111
CATEGORIES:San Diego Mesa College Calendar Events
PRIORITY:0
TRANSP:TRANSPARENT
END:VEVENT
END:VCALENDAR