BEGIN:VCALENDAR
VERSION:2.0
METHOD:PUBLISH
CALSCALE:GREGORIAN
PRODID:-//Helios Calendar//EN
X-FROM-URL:https://www.sdmesa.edu/calendar/index.php?eID=736
X-WR-RELCALID:San Diego Mesa College Calendar UC/TAG Workshop 20151119T140000
X-WR-TIMEZONE:America/Los_Angeles
X-WR-CALNAME:San Diego Mesa College Calendar
BEGIN:VEVENT
URL;VALUE=URI:https://www.sdmesa.edu/calendar/index.php?eID=736
DTSTART:20151119T140000
DTEND:20151119T150000
SUMMARY:UC/TAG Workshop
DESCRIPTION:Small\, hands-on group sessions cover requirements for the UC TAG program and information on how you can best prepare yourself. In addition\, you will obtain information on creating an educational plan for transfer\, Transfer Admission Guarantees (TAGs)... For complete event details please visit:  https://www.sdmesa.edu/calendar/?eID=736\n______________________________\nEvent Downloaded Powered by OU Calendar
LOCATION:Mesa Campus - 7250 Mesa College Drive \, San Diego\, CA USA 92111
CATEGORIES:San Diego Mesa College Calendar Events
PRIORITY:0
TRANSP:TRANSPARENT
END:VEVENT
END:VCALENDAR