BEGIN:VCALENDAR
VERSION:2.0
METHOD:PUBLISH
CALSCALE:GREGORIAN
PRODID:-//Helios Calendar//EN
X-FROM-URL:https://www.sdmesa.edu/calendar/index.php?eID=734
X-WR-RELCALID:San Diego Mesa College Calendar CSU Application Workshop 20151116T133000
X-WR-TIMEZONE:America/Los_Angeles
X-WR-CALNAME:San Diego Mesa College Calendar
BEGIN:VEVENT
URL;VALUE=URI:https://www.sdmesa.edu/calendar/index.php?eID=734
DTSTART:20151116T133000
DTEND:20151116T150000
SUMMARY:CSU Application Workshop
DESCRIPTION:Learn how to properly complete a CSU application. We review the information you need to gather to prepare your application\, explain what the questions mean\, and answer your questions about the application and transfer process.  For complete event details please visit:  https://www.sdmesa.edu/calendar/?eID=734\n______________________________\nEvent Downloaded Powered by OU Calendar
LOCATION:Mesa Campus - 7250 Mesa College Drive \, San Diego\, CA USA 92111
CATEGORIES:San Diego Mesa College Calendar Events
PRIORITY:0
TRANSP:TRANSPARENT
END:VEVENT
END:VCALENDAR