BEGIN:VCALENDAR
VERSION:2.0
METHOD:PUBLISH
CALSCALE:GREGORIAN
PRODID:-//Helios Calendar//EN
X-FROM-URL:https://www.sdmesa.edu/calendar/index.php?eID=722
X-WR-RELCALID:San Diego Mesa College Calendar Veterans Week: Veterans Workshops 20151110T100000
X-WR-TIMEZONE:America/Los_Angeles
X-WR-CALNAME:San Diego Mesa College Calendar
BEGIN:VEVENT
URL;VALUE=URI:https://www.sdmesa.edu/calendar/index.php?eID=722
DTSTART:20151110T100000
DTEND:20151110T153000
SUMMARY:Veterans Week: Veterans Workshops
DESCRIPTION:Join Mesa's student veterans in celebrating Veterans Day.On Tuesday\, November 10\, the Veterans Resource Center will hold a series of workshops.1:00 PM - Financial Aid Workshop2:00 PM - Career Workshop3:00 PM - Transfer WorkshopIn front of the VRC... For complete event details please visit:  https://www.sdmesa.edu/calendar/?eID=722\n______________________________\nEvent Downloaded Powered by OU Calendar
LOCATION:Mesa Campus - 7250 Mesa College Drive \, San Diego\, CA USA 92111
CATEGORIES:San Diego Mesa College Calendar Events
PRIORITY:0
TRANSP:TRANSPARENT
END:VEVENT
END:VCALENDAR