BEGIN:VCALENDAR
VERSION:2.0
METHOD:PUBLISH
CALSCALE:GREGORIAN
PRODID:-//Helios Calendar//EN
X-FROM-URL:https://www.sdmesa.edu/calendar/index.php?eID=7203
X-WR-RELCALID:San Diego Mesa College Calendar Nurturing Resiliency in Leadership 20231019T113000
X-WR-TIMEZONE:America/Los_Angeles
X-WR-CALNAME:San Diego Mesa College Calendar
BEGIN:VEVENT
URL;VALUE=URI:https://www.sdmesa.edu/calendar/index.php?eID=7203
DTSTART:20231019T113000
DTEND:20231019T130000
SUMMARY:Nurturing Resiliency in Leadership
DESCRIPTION:We have a special session for current or aspiring leaders. Please RSVP: https://forms.gle/Z23VmurL6dA5z2ko6Please join us on Thursday\, October 19\, 2023 at 11:30 â€" 1 pm.Session SummaryNurturing Resiliency in Leadership: Â   Participants will be... For complete event details please visit:  https://www.sdmesa.edu/calendar/?eID=7203\n______________________________\nEvent Downloaded Powered by OU Calendar
LOCATION:The LOFT 435 - 7250 Mesa College Dr \, San Diego\, CA  92111
CATEGORIES:San Diego Mesa College Calendar Events
PRIORITY:0
TRANSP:TRANSPARENT
END:VEVENT
END:VCALENDAR