BEGIN:VCALENDAR
VERSION:2.0
METHOD:PUBLISH
CALSCALE:GREGORIAN
PRODID:-//Helios Calendar//EN
X-FROM-URL:https://www.sdmesa.edu/calendar/index.php?eID=716
X-WR-RELCALID:San Diego Mesa College Calendar Campus Visit: St. George's University 20151030T110000
X-WR-TIMEZONE:America/Los_Angeles
X-WR-CALNAME:San Diego Mesa College Calendar
BEGIN:VEVENT
URL;VALUE=URI:https://www.sdmesa.edu/calendar/index.php?eID=716
DTSTART:20151030T110000
DTEND:20151030T123000
SUMMARY:Campus Visit: St. George's University
DESCRIPTION:Students interested in attending Medical or Veterinary school are invited to a presentation on St. George's University Medical and Veterinary School. Joseph Franza\, Assistant Director of Admission at St. George's University\, will be on hand presenting... For complete event details please visit:  https://www.sdmesa.edu/calendar/?eID=716\n______________________________\nEvent Downloaded Powered by OU Calendar
LOCATION:Mesa Campus - 7250 Mesa College Drive \, San Diego\, CA USA 92111
CATEGORIES:San Diego Mesa College Calendar Events
PRIORITY:0
TRANSP:TRANSPARENT
END:VEVENT
END:VCALENDAR