BEGIN:VCALENDAR
VERSION:2.0
METHOD:PUBLISH
CALSCALE:GREGORIAN
PRODID:-//Helios Calendar//EN
X-FROM-URL:https://www.sdmesa.edu/calendar/index.php?eID=710
X-WR-RELCALID:San Diego Mesa College Calendar Día de los Muertos 20151103T093500
X-WR-TIMEZONE:America/Los_Angeles
X-WR-CALNAME:San Diego Mesa College Calendar
BEGIN:VEVENT
URL;VALUE=URI:https://www.sdmesa.edu/calendar/index.php?eID=710
DTSTART:20151103T093500
DTEND:20151103T103000
SUMMARY:Día de los Muertos
DESCRIPTION:The Mesa College Community is invited to learn and engage in Día de los Muertos.Click here to see the flyer  Film and Discussion“Days of the Dead: A Living Tradition”9:35 am - 10:30 am in H‐117Altar FOR THE DECEASEDNovember 2-13\, Inside the... For complete event details please visit:  https://www.sdmesa.edu/calendar/?eID=710\n______________________________\nEvent Downloaded Powered by OU Calendar
LOCATION:Mesa Campus - 7250 Mesa College Drive \, San Diego\, CA USA 92111
CATEGORIES:San Diego Mesa College Calendar Events
PRIORITY:0
TRANSP:TRANSPARENT
END:VEVENT
END:VCALENDAR