BEGIN:VCALENDAR
VERSION:2.0
METHOD:PUBLISH
CALSCALE:GREGORIAN
PRODID:-//Helios Calendar//EN
X-FROM-URL:https://www.sdmesa.edu/calendar/index.php?eID=709
X-WR-RELCALID:San Diego Mesa College Calendar Día de los Muertos 20151102T093000
X-WR-TIMEZONE:America/Los_Angeles
X-WR-CALNAME:San Diego Mesa College Calendar
BEGIN:VEVENT
URL;VALUE=URI:https://www.sdmesa.edu/calendar/index.php?eID=709
DTSTART:20151102T093000
DTEND:20151102T140000
SUMMARY:Día de los Muertos
DESCRIPTION:The Mesa College Community is invited to learn and engage in Día de los Muertos.Click here to see the flyer Film and Discussion“Days of the Dead: A Living Tradition”Monday and Tuesday\, November 2-39:35 am - 10:30 am in H‐117Activity BoothsMonday\,... For complete event details please visit:  https://www.sdmesa.edu/calendar/?eID=709\n______________________________\nEvent Downloaded Powered by OU Calendar
LOCATION:Mesa Campus - 7250 Mesa College Drive \, San Diego\, CA USA 92111
CATEGORIES:San Diego Mesa College Calendar Events
PRIORITY:0
TRANSP:TRANSPARENT
END:VEVENT
END:VCALENDAR