BEGIN:VCALENDAR
VERSION:2.0
METHOD:PUBLISH
CALSCALE:GREGORIAN
PRODID:-//Helios Calendar//EN
X-FROM-URL:https://www.sdmesa.edu/calendar/index.php?eID=708
X-WR-RELCALID:San Diego Mesa College Calendar Cosmic Telescopics: Looking Through Gravitational Lenses 20151028T190000
X-WR-TIMEZONE:America/Los_Angeles
X-WR-CALNAME:San Diego Mesa College Calendar
BEGIN:VEVENT
URL;VALUE=URI:https://www.sdmesa.edu/calendar/index.php?eID=708
DTSTART:20151028T190000
DTEND:20151028T210000
SUMMARY:Cosmic Telescopics: Looking Through Gravitational Lenses
DESCRIPTION:Join Physics and Astronomy professor Jae Calanog in his discussion on gravitational lensing and how we are using them to learn about the distant universe.Everyone is welcome to attend. Wed Oct 28th\, 7-9 pm G-101 Auditorium\, Mesa College CampusFlex... For complete event details please visit:  https://www.sdmesa.edu/calendar/?eID=708\n______________________________\nEvent Downloaded Powered by OU Calendar
LOCATION:Mesa Campus - 7250 Mesa College Drive \, San Diego\, CA USA 92111
CATEGORIES:San Diego Mesa College Calendar Events
PRIORITY:0
TRANSP:TRANSPARENT
END:VEVENT
END:VCALENDAR