BEGIN:VCALENDAR
VERSION:2.0
METHOD:PUBLISH
CALSCALE:GREGORIAN
PRODID:-//Helios Calendar//EN
X-FROM-URL:https://www.sdmesa.edu/calendar/index.php?eID=706
X-WR-RELCALID:San Diego Mesa College Calendar The Converging Influence of Masculinity and Racial Identity on Student Success for Men of Color in Community Colleges (M2C3) 20151021T103000
X-WR-TIMEZONE:America/Los_Angeles
X-WR-CALNAME:San Diego Mesa College Calendar
BEGIN:VEVENT
URL;VALUE=URI:https://www.sdmesa.edu/calendar/index.php?eID=706
DTSTART:20151021T103000
DTEND:20151021T120000
SUMMARY:The Converging Influence of Masculinity and Racial Identity on Student Success for Men of Color in Community Colleges (M2C3)
DESCRIPTION:The purpose of this workshop is to recognize patterns of male gender role socialization and ways in which they serve as barriers to student success for men of color in community colleges\, and to devise strategies that community college educators... For complete event details please visit:  https://www.sdmesa.edu/calendar/?eID=706\n______________________________\nEvent Downloaded Powered by OU Calendar
LOCATION:Mesa Campus - 7250 Mesa College Drive \, San Diego\, CA USA 92111
CATEGORIES:San Diego Mesa College Calendar Events
PRIORITY:0
TRANSP:TRANSPARENT
END:VEVENT
END:VCALENDAR