BEGIN:VCALENDAR
VERSION:2.0
METHOD:PUBLISH
CALSCALE:GREGORIAN
PRODID:-//Helios Calendar//EN
X-FROM-URL:https://www.sdmesa.edu/calendar/index.php?eID=705
X-WR-RELCALID:San Diego Mesa College Calendar Mesa History Film Series: The Rising 20151028T163000
X-WR-TIMEZONE:America/Los_Angeles
X-WR-CALNAME:San Diego Mesa College Calendar
BEGIN:VEVENT
URL;VALUE=URI:https://www.sdmesa.edu/calendar/index.php?eID=705
DTSTART:20151028T163000
DTEND:20151028T163000
SUMMARY:Mesa History Film Series: The Rising
DESCRIPTION:Head to SB207 on Wednesday\, October 28 and watch The Rising (2005) for Mesa's History Film Series.Join Social & Behavioral Sciences faculty for film criticism from a historical perspective. The film starts at 4:30 PM.  For complete event details please visit:  https://www.sdmesa.edu/calendar/?eID=705\n______________________________\nEvent Downloaded Powered by OU Calendar
LOCATION:Mesa Campus - 7250 Mesa College Drive \, San Diego\, CA USA 92111
CATEGORIES:San Diego Mesa College Calendar Events
PRIORITY:0
TRANSP:TRANSPARENT
END:VEVENT
END:VCALENDAR