BEGIN:VCALENDAR
VERSION:2.0
METHOD:PUBLISH
CALSCALE:GREGORIAN
PRODID:-//Helios Calendar//EN
X-FROM-URL:https://www.sdmesa.edu/calendar/index.php?eID=7040
X-WR-RELCALID:San Diego Mesa College Calendar Cal State San Marcos University Representative Appointments  20230831T113000
X-WR-TIMEZONE:America/Los_Angeles
X-WR-CALNAME:San Diego Mesa College Calendar
BEGIN:VEVENT
URL;VALUE=URI:https://www.sdmesa.edu/calendar/index.php?eID=7040
DTSTART:20230831T113000
DTEND:20230831T143000
SUMMARY:Cal State San Marcos University Representative Appointments 
DESCRIPTION:Cal State San Marcos Admissions Representative Christina Montell will be at the Transfer Center on August 31st from 11:30 AM to 2:30PM. She will be providing one-on-one appointments for students. To book your appointment please contact us at (619)... For complete event details please visit:  https://www.sdmesa.edu/calendar/?eID=7040\n______________________________\nEvent Downloaded Powered by OU Calendar
LOCATION:Transfer Center  - 7250 Mesa College Dr\, I400 \, San Diego\, CA  9211
CATEGORIES:San Diego Mesa College Calendar Events
PRIORITY:0
TRANSP:TRANSPARENT
END:VEVENT
END:VCALENDAR