BEGIN:VCALENDAR
VERSION:2.0
METHOD:PUBLISH
CALSCALE:GREGORIAN
PRODID:-//Helios Calendar//EN
X-FROM-URL:https://www.sdmesa.edu/calendar/index.php?eID=704
X-WR-RELCALID:San Diego Mesa College Calendar 19th Annual Africa Trade and Business Conference 20151114T080000
X-WR-TIMEZONE:America/Los_Angeles
X-WR-CALNAME:San Diego Mesa College Calendar
BEGIN:VEVENT
URL;VALUE=URI:https://www.sdmesa.edu/calendar/index.php?eID=704
DTSTART:20151114T080000
DTEND:20151114T170000
SUMMARY:19th Annual Africa Trade and Business Conference
DESCRIPTION:As partners with Water for Children Africa (WCA)\, the Black Studies Department and Black Student Union are co-sponsoring the 19th Annual African Trade and Business Conference.   This year's conference theme is: Opening Doors to Opportunities in AfricaThis... For complete event details please visit:  https://www.sdmesa.edu/calendar/?eID=704\n______________________________\nEvent Downloaded Powered by OU Calendar
LOCATION:Mesa Campus - 7250 Mesa College Drive \, San Diego\, CA USA 92111
CATEGORIES:San Diego Mesa College Calendar Events
PRIORITY:0
TRANSP:TRANSPARENT
END:VEVENT
END:VCALENDAR