BEGIN:VCALENDAR
VERSION:2.0
METHOD:PUBLISH
CALSCALE:GREGORIAN
PRODID:-//Helios Calendar//EN
X-FROM-URL:https://www.sdmesa.edu/calendar/index.php?eID=7039
X-WR-RELCALID:San Diego Mesa College Calendar UC Berkeley Representative Advising Appointments  20230914T113000
X-WR-TIMEZONE:America/Los_Angeles
X-WR-CALNAME:San Diego Mesa College Calendar
BEGIN:VEVENT
URL;VALUE=URI:https://www.sdmesa.edu/calendar/index.php?eID=7039
DTSTART:20230914T113000
DTEND:20230914T140000
SUMMARY:UC Berkeley Representative Advising Appointments 
DESCRIPTION:UC Berkeley Admissions Representative Alberto Davalos will be at the Transfer Center (I4-306)  on September 14th from 11:30 AM to 2:00 PM. He will be providing one-on-one appointments for students. To book your appointment please contact us at (619)... For complete event details please visit:  https://www.sdmesa.edu/calendar/?eID=7039\n______________________________\nEvent Downloaded Powered by OU Calendar
LOCATION:Transfer Center  - 7250 Mesa College Dr\, I400 \, San Diego\, CA  9211
CATEGORIES:San Diego Mesa College Calendar Events
PRIORITY:0
TRANSP:TRANSPARENT
END:VEVENT
END:VCALENDAR