BEGIN:VCALENDAR
VERSION:2.0
METHOD:PUBLISH
CALSCALE:GREGORIAN
PRODID:-//Helios Calendar//EN
X-FROM-URL:https://www.sdmesa.edu/calendar/index.php?eID=703
X-WR-RELCALID:San Diego Mesa College Calendar HSI Speaker Series - Dena R. Samuels, PhD 20151106T100000
X-WR-TIMEZONE:America/Los_Angeles
X-WR-CALNAME:San Diego Mesa College Calendar
BEGIN:VEVENT
URL;VALUE=URI:https://www.sdmesa.edu/calendar/index.php?eID=703
DTSTART:20151106T100000
DTEND:20151106T130000
SUMMARY:HSI Speaker Series - Dena R. Samuels\, PhD
DESCRIPTION:~Transforming Ourselves to Become Culturally Inclusive Educators~Click here to see the flyer.Join us to hear from a dynamic speaker and author and engage in the conversation.Free event\, lunch and book are provided.How we can move forward to becoming... For complete event details please visit:  https://www.sdmesa.edu/calendar/?eID=703\n______________________________\nEvent Downloaded Powered by OU Calendar
LOCATION:Mesa Campus - 7250 Mesa College Drive \, San Diego\, CA USA 92111
CATEGORIES:San Diego Mesa College Calendar Events
PRIORITY:0
TRANSP:TRANSPARENT
END:VEVENT
END:VCALENDAR