BEGIN:VCALENDAR
VERSION:2.0
METHOD:PUBLISH
CALSCALE:GREGORIAN
PRODID:-//Helios Calendar//EN
X-FROM-URL:https://www.sdmesa.edu/calendar/index.php?eID=699
X-WR-RELCALID:San Diego Mesa College Calendar Noche de Familia 20151028T170000
X-WR-TIMEZONE:America/Los_Angeles
X-WR-CALNAME:San Diego Mesa College Calendar
BEGIN:VEVENT
URL;VALUE=URI:https://www.sdmesa.edu/calendar/index.php?eID=699
DTSTART:20151028T170000
DTEND:20151028T200000
SUMMARY:Noche de Familia
DESCRIPTION:The Puente Noche de Familia is a presentation of the Puente Program and it's supporters to report on success\, retention and transfer rates of the program.Noche de Familia is an event for Puente students\, parents\, and supporters (mentors and administrators)... For complete event details please visit:  https://www.sdmesa.edu/calendar/?eID=699\n______________________________\nEvent Downloaded Powered by OU Calendar
LOCATION:Mesa Campus - 7250 Mesa College Drive \, San Diego\, CA USA 92111
CATEGORIES:San Diego Mesa College Calendar Events
PRIORITY:0
TRANSP:TRANSPARENT
END:VEVENT
END:VCALENDAR