BEGIN:VCALENDAR
VERSION:2.0
METHOD:PUBLISH
CALSCALE:GREGORIAN
PRODID:-//Helios Calendar//EN
X-FROM-URL:https://www.sdmesa.edu/calendar/index.php?eID=698
X-WR-RELCALID:San Diego Mesa College Calendar Celebrating 20 Years of Teatro Izacalli		 20151103T110000
X-WR-TIMEZONE:America/Los_Angeles
X-WR-CALNAME:San Diego Mesa College Calendar
BEGIN:VEVENT
URL;VALUE=URI:https://www.sdmesa.edu/calendar/index.php?eID=698
DTSTART:20151103T110000
DTEND:20151103T123500
SUMMARY:Celebrating 20 Years of Teatro Izacalli		
DESCRIPTION:The Presentation "Celebrating 20 Years of Teatro Izcalli" focuses on Chicano Theatre in San Diego\, and its role as a cutural/political expression.  Founding and current members of San Diego's Teatro Izcalli will share their experiences with the... For complete event details please visit:  https://www.sdmesa.edu/calendar/?eID=698\n______________________________\nEvent Downloaded Powered by OU Calendar
LOCATION:Mesa Campus - 7250 Mesa College Drive \, San Diego\, CA USA 92111
CATEGORIES:San Diego Mesa College Calendar Events
PRIORITY:0
TRANSP:TRANSPARENT
END:VEVENT
END:VCALENDAR