BEGIN:VCALENDAR
VERSION:2.0
METHOD:PUBLISH
CALSCALE:GREGORIAN
PRODID:-//Helios Calendar//EN
X-FROM-URL:https://www.sdmesa.edu/calendar/index.php?eID=697
X-WR-RELCALID:San Diego Mesa College Calendar Equity Workshop: Making Meaning of Your Program’s Equity Data 20151021T090000
X-WR-TIMEZONE:America/Los_Angeles
X-WR-CALNAME:San Diego Mesa College Calendar
BEGIN:VEVENT
URL;VALUE=URI:https://www.sdmesa.edu/calendar/index.php?eID=697
DTSTART:20151021T090000
DTEND:20151021T100000
SUMMARY:Equity Workshop: Making Meaning of Your Program’s Equity Data
DESCRIPTION:Making Meaning of Your Program’s Equity DataJoin us for a discussion and overview of Program Review data examined through an equity lens. Workshop participants will learn how to examine and interpret equity data for program planning and improvement.Presented... For complete event details please visit:  https://www.sdmesa.edu/calendar/?eID=697\n______________________________\nEvent Downloaded Powered by OU Calendar
LOCATION:Mesa Campus - 7250 Mesa College Drive \, San Diego\, CA USA 92111
CATEGORIES:San Diego Mesa College Calendar Events
PRIORITY:0
TRANSP:TRANSPARENT
END:VEVENT
END:VCALENDAR