BEGIN:VCALENDAR
VERSION:2.0
METHOD:PUBLISH
CALSCALE:GREGORIAN
PRODID:-//Helios Calendar//EN
X-FROM-URL:https://www.sdmesa.edu/calendar/index.php?eID=696
X-WR-RELCALID:San Diego Mesa College Calendar Equity Workshop 20151021T103000
X-WR-TIMEZONE:America/Los_Angeles
X-WR-CALNAME:San Diego Mesa College Calendar
BEGIN:VEVENT
URL;VALUE=URI:https://www.sdmesa.edu/calendar/index.php?eID=696
DTSTART:20151021T103000
DTEND:20151021T120000
SUMMARY:Equity Workshop
DESCRIPTION:The Converging Influence of Masculinity and Racial Identity on Student Success for Men of Color in Community CollegesRecent efforts to identify and examine factors that influence student success for men of color in community colleges have not adequately... For complete event details please visit:  https://www.sdmesa.edu/calendar/?eID=696\n______________________________\nEvent Downloaded Powered by OU Calendar
LOCATION:Mesa Campus - 7250 Mesa College Drive \, San Diego\, CA USA 92111
CATEGORIES:San Diego Mesa College Calendar Events
PRIORITY:0
TRANSP:TRANSPARENT
END:VEVENT
END:VCALENDAR