BEGIN:VCALENDAR
VERSION:2.0
METHOD:PUBLISH
CALSCALE:GREGORIAN
PRODID:-//Helios Calendar//EN
X-FROM-URL:https://www.sdmesa.edu/calendar/index.php?eID=694
X-WR-RELCALID:San Diego Mesa College Calendar Rape Aggression Defense: Basic Self Defense Training 20151107T080000
X-WR-TIMEZONE:America/Los_Angeles
X-WR-CALNAME:San Diego Mesa College Calendar
BEGIN:VEVENT
URL;VALUE=URI:https://www.sdmesa.edu/calendar/index.php?eID=694
DTSTART:20151107T080000
DTEND:20151107T153000
SUMMARY:Rape Aggression Defense: Basic Self Defense Training
DESCRIPTION:Presented by the SDCCD Police Department.North City Center: November 7 and 14.This is a free 12-hour program (must attend both sessions) and is offered to SDCCD faculty\, staff\, and students (Women only). The Rape Aggression Defense (R.A.D.) is a... For complete event details please visit:  https://www.sdmesa.edu/calendar/?eID=694\n______________________________\nEvent Downloaded Powered by OU Calendar
LOCATION:San Diego City College -  8355 Aero Dr \, San Diego\, CA 92123 92101
CATEGORIES:San Diego Mesa College Calendar Events
PRIORITY:0
TRANSP:TRANSPARENT
END:VEVENT
END:VCALENDAR