BEGIN:VCALENDAR
VERSION:2.0
METHOD:PUBLISH
CALSCALE:GREGORIAN
PRODID:-//Helios Calendar//EN
X-FROM-URL:https://www.sdmesa.edu/calendar/index.php?eID=691
X-WR-RELCALID:San Diego Mesa College Calendar Acceleration Faculty Workshop 20151106T100000
X-WR-TIMEZONE:America/Los_Angeles
X-WR-CALNAME:San Diego Mesa College Calendar
BEGIN:VEVENT
URL;VALUE=URI:https://www.sdmesa.edu/calendar/index.php?eID=691
DTSTART:20151106T100000
DTEND:20151106T120000
SUMMARY:Acceleration Faculty Workshop
DESCRIPTION:This hands-on workshop will give practical training for English 47A faculty that includes:- sample syllabi from acceleration leaders that provides helpful suggestions for book selection and course structure- informative handouts that explain the... For complete event details please visit:  https://www.sdmesa.edu/calendar/?eID=691\n______________________________\nEvent Downloaded Powered by OU Calendar
LOCATION:Mesa Campus - 7250 Mesa College Drive \, San Diego\, CA USA 92111
CATEGORIES:San Diego Mesa College Calendar Events
PRIORITY:0
TRANSP:TRANSPARENT
END:VEVENT
END:VCALENDAR