BEGIN:VCALENDAR
VERSION:2.0
METHOD:PUBLISH
CALSCALE:GREGORIAN
PRODID:-//Helios Calendar//EN
X-FROM-URL:https://www.sdmesa.edu/calendar/index.php?eID=690
X-WR-RELCALID:San Diego Mesa College Calendar Physical Sciences Lecture Series: Iceland: A Geologic Journey 20151008T190000
X-WR-TIMEZONE:America/Los_Angeles
X-WR-CALNAME:San Diego Mesa College Calendar
BEGIN:VEVENT
URL;VALUE=URI:https://www.sdmesa.edu/calendar/index.php?eID=690
DTSTART:20151008T190000
DTEND:20151008T210000
SUMMARY:Physical Sciences Lecture Series: Iceland: A Geologic Journey
DESCRIPTION:Join geoscience professor Don Barrie for an exciting\, first-hand account of Iceland's geologic marvels\, including glaciers\, geysers\, waterfalls\, and volcanic eruptions!The lecture takes place in the G101 Auditorium. Mesa faculty\, staff\, and students... For complete event details please visit:  https://www.sdmesa.edu/calendar/?eID=690\n______________________________\nEvent Downloaded Powered by OU Calendar
LOCATION:G Bldg Rotunda - 7250 Mesa College Drive\, G Bldg \, San Diego\, CA USA 92111
CATEGORIES:San Diego Mesa College Calendar Events
PRIORITY:0
TRANSP:TRANSPARENT
END:VEVENT
END:VCALENDAR