BEGIN:VCALENDAR
VERSION:2.0
METHOD:PUBLISH
CALSCALE:GREGORIAN
PRODID:-//Helios Calendar//EN
X-FROM-URL:https://www.sdmesa.edu/calendar/index.php?eID=689
X-WR-RELCALID:San Diego Mesa College Calendar Test for Success Workshop - by Peer Navigator 20151015T110000
X-WR-TIMEZONE:America/Los_Angeles
X-WR-CALNAME:San Diego Mesa College Calendar
BEGIN:VEVENT
URL;VALUE=URI:https://www.sdmesa.edu/calendar/index.php?eID=689
DTSTART:20151015T110000
DTEND:20151015T120000
SUMMARY:Test for Success Workshop - by Peer Navigator
DESCRIPTION:Test for Success Workshop - by Peer Navigators~Learn Techniques on How You Can Do Well and Not Stress!~Lunch will be provided!!Click here to see the flyer. For complete event details please visit:  https://www.sdmesa.edu/calendar/?eID=689\n______________________________\nEvent Downloaded Powered by OU Calendar
LOCATION:I4-409 (ASG Conference Room) -  \, \,   
CATEGORIES:San Diego Mesa College Calendar Events
PRIORITY:0
TRANSP:TRANSPARENT
END:VEVENT
END:VCALENDAR