BEGIN:VCALENDAR
VERSION:2.0
METHOD:PUBLISH
CALSCALE:GREGORIAN
PRODID:-//Helios Calendar//EN
X-FROM-URL:https://www.sdmesa.edu/calendar/index.php?eID=683
X-WR-RELCALID:San Diego Mesa College Calendar Mesa Organic Garden Party 20151020T130000
X-WR-TIMEZONE:America/Los_Angeles
X-WR-CALNAME:San Diego Mesa College Calendar
BEGIN:VEVENT
URL;VALUE=URI:https://www.sdmesa.edu/calendar/index.php?eID=683
DTSTART:20151020T130000
DTEND:20151020T150000
SUMMARY:Mesa Organic Garden Party
DESCRIPTION:Sustainability Week kicks off on Tuesday\, October 20 with a Garden Party from 1:00 p.m. to 3:00 p.m. in the Mesa College Organic Garden\, located at the P-100 building on Marlesta Drive. In addition to a tour of the garden by TerraMesa\, attendees... For complete event details please visit:  https://www.sdmesa.edu/calendar/?eID=683\n______________________________\nEvent Downloaded Powered by OU Calendar
LOCATION:P Bldg Garden - 7250 Mesa College Drive\, Bldg P  \, San Diego\, CA USA 92111
CATEGORIES:San Diego Mesa College Calendar Events
PRIORITY:0
TRANSP:TRANSPARENT
END:VEVENT
END:VCALENDAR