BEGIN:VCALENDAR
VERSION:2.0
METHOD:PUBLISH
CALSCALE:GREGORIAN
PRODID:-//Helios Calendar//EN
X-FROM-URL:https://www.sdmesa.edu/calendar/index.php?eID=682
X-WR-RELCALID:San Diego Mesa College Calendar Sustainability Summit 20151023T090000
X-WR-TIMEZONE:America/Los_Angeles
X-WR-CALNAME:San Diego Mesa College Calendar
BEGIN:VEVENT
URL;VALUE=URI:https://www.sdmesa.edu/calendar/index.php?eID=682
DTSTART:20151023T090000
DTEND:20151023T143000
SUMMARY:Sustainability Summit
DESCRIPTION:The Sustainability Summit will explore innovative solutions about pressing regional and global issues such as climate change\, food security\, and water resources. Presenters include Cori Calvert of the USDA’s Natural Resources Conservation Services\,... For complete event details please visit:  https://www.sdmesa.edu/calendar/?eID=682\n______________________________\nEvent Downloaded Powered by OU Calendar
LOCATION:Mesa Campus - 7250 Mesa College Drive \, San Diego\, CA USA 92111
CATEGORIES:San Diego Mesa College Calendar Events
PRIORITY:0
TRANSP:TRANSPARENT
END:VEVENT
END:VCALENDAR