BEGIN:VCALENDAR
VERSION:2.0
METHOD:PUBLISH
CALSCALE:GREGORIAN
PRODID:-//Helios Calendar//EN
X-FROM-URL:https://www.sdmesa.edu/calendar/index.php?eID=677
X-WR-RELCALID:San Diego Mesa College Calendar Homecoming Football Game 20151024T130000
X-WR-TIMEZONE:America/Los_Angeles
X-WR-CALNAME:San Diego Mesa College Calendar
BEGIN:VEVENT
URL;VALUE=URI:https://www.sdmesa.edu/calendar/index.php?eID=677
DTSTART:20151024T130000
DTEND:20151024T130000
SUMMARY:Homecoming Football Game
DESCRIPTION:Cheer on the Olympian football team as they face off against San Bernardino Valley College at Mesa's Merrill Douglas Stadium. For directions\, ticket prices\, and other visitor information\, click here.  For complete event details please visit:  https://www.sdmesa.edu/calendar/?eID=677\n______________________________\nEvent Downloaded Powered by OU Calendar
LOCATION:East Athletics Plaza - 7250 Mesa College Drive\, Athletics Plaza \, San Diego\, CA USA 92111
CATEGORIES:San Diego Mesa College Calendar Events
PRIORITY:0
TRANSP:TRANSPARENT
END:VEVENT
END:VCALENDAR