BEGIN:VCALENDAR
VERSION:2.0
METHOD:PUBLISH
CALSCALE:GREGORIAN
PRODID:-//Helios Calendar//EN
X-FROM-URL:https://www.sdmesa.edu/calendar/index.php?eID=676
X-WR-RELCALID:San Diego Mesa College Calendar Spirit Week Pep Rally 20151020T120000
X-WR-TIMEZONE:America/Los_Angeles
X-WR-CALNAME:San Diego Mesa College Calendar
BEGIN:VEVENT
URL;VALUE=URI:https://www.sdmesa.edu/calendar/index.php?eID=676
DTSTART:20151020T120000
DTEND:20151020T130000
SUMMARY:Spirit Week Pep Rally
DESCRIPTION:Join us on the Mesa College Promenade\, meet this year’s football team\, enjoy music\, games and good company! Show your Olympian pride and receive free giveaways! For complete event details please visit:  https://www.sdmesa.edu/calendar/?eID=676\n______________________________\nEvent Downloaded Powered by OU Calendar
LOCATION:Mesa Promenade - 7250 Mesa College Drive\, Promenade \, San Diego\, CA USA 92111
CATEGORIES:San Diego Mesa College Calendar Events
PRIORITY:0
TRANSP:TRANSPARENT
END:VEVENT
END:VCALENDAR